BEGIN:VCALENDAR
VERSION:2.0
PRODID:-//Nachbarschaftshilfe Gerolzhofen - ECPv6.15.17//NONSGML v1.0//EN
CALSCALE:GREGORIAN
METHOD:PUBLISH
X-ORIGINAL-URL:https://www.nachbarschaftshilfe-gerolzhofen.de
X-WR-CALDESC:Veranstaltungen für Nachbarschaftshilfe Gerolzhofen
REFRESH-INTERVAL;VALUE=DURATION:PT1H
X-Robots-Tag:noindex
X-PUBLISHED-TTL:PT1H
BEGIN:VTIMEZONE
TZID:Europe/Berlin
BEGIN:DAYLIGHT
TZOFFSETFROM:+0100
TZOFFSETTO:+0200
TZNAME:CEST
DTSTART:20250330T010000
END:DAYLIGHT
BEGIN:STANDARD
TZOFFSETFROM:+0200
TZOFFSETTO:+0100
TZNAME:CET
DTSTART:20251026T010000
END:STANDARD
BEGIN:DAYLIGHT
TZOFFSETFROM:+0100
TZOFFSETTO:+0200
TZNAME:CEST
DTSTART:20260329T010000
END:DAYLIGHT
BEGIN:STANDARD
TZOFFSETFROM:+0200
TZOFFSETTO:+0100
TZNAME:CET
DTSTART:20261025T010000
END:STANDARD
BEGIN:DAYLIGHT
TZOFFSETFROM:+0100
TZOFFSETTO:+0200
TZNAME:CEST
DTSTART:20270328T010000
END:DAYLIGHT
BEGIN:STANDARD
TZOFFSETFROM:+0200
TZOFFSETTO:+0100
TZNAME:CET
DTSTART:20271031T010000
END:STANDARD
END:VTIMEZONE
BEGIN:VEVENT
DTSTART;TZID=Europe/Berlin:20261007T160000
DTEND;TZID=Europe/Berlin:20261007T180000
DTSTAMP:20260422T003049
CREATED:20251020T093438Z
LAST-MODIFIED:20251020T093803Z
UID:10000121-1791388800-1791396000@www.nachbarschaftshilfe-gerolzhofen.de
SUMMARY:Fahrradwerkstatt geöffnet
DESCRIPTION:Wenn es wärmer wird und bleibt\,  hat unsere Fahrradwerkstatt jeweils am ersten und dritten Mittwoch im Monat ihre Türen offen.\nZwischen 16.00 und 18.00 Uhr kümmern sich in der Steingrabenstraße 6\, 97447 Gerolzhofen unsere Experten um kaputte Speichen\, nicht mehr funktionierende Gangschaltungen und was sonst noch am Fahrrad repariert werden kann. \nOrt: Steingrabenstraße 6\, 97447 Gerolzhofen
URL:https://www.nachbarschaftshilfe-gerolzhofen.de/event/fahrradwerkstatt-geoeffnet/2026-10-07/
END:VEVENT
BEGIN:VEVENT
DTSTART;TZID=Europe/Berlin:20261008T180000
DTEND;TZID=Europe/Berlin:20261008T203000
DTSTAMP:20260422T003049
CREATED:20241009T122310Z
LAST-MODIFIED:20260122T095005Z
UID:10000100-1791482400-1791491400@www.nachbarschaftshilfe-gerolzhofen.de
SUMMARY:Oktober-Stammtisch
DESCRIPTION:Bei unserem monatlichen Stammtisch (Beginn jeweils um 18.00 Uhr) geht es um Erfahrungsaustausch\, neue Informationen und Entwicklungen der Nachbarschaftshilfe und natürlich auch um Kontaktpflege und gemütliches Beisammensein. Der Veranstaltungsort wird kurzfristig bekannt gegeben.
URL:https://www.nachbarschaftshilfe-gerolzhofen.de/event/oktober-stammtisch-2/
END:VEVENT
BEGIN:VEVENT
DTSTART;TZID=Europe/Berlin:20261010T100000
DTEND;TZID=Europe/Berlin:20261010T140000
DTSTAMP:20260422T003049
CREATED:20250917T205944Z
LAST-MODIFIED:20250917T211036Z
UID:10000108-1791626400-1791640800@www.nachbarschaftshilfe-gerolzhofen.de
SUMMARY:Reparatur-Café
DESCRIPTION:Wegwerfen? Von wegen!\nZweimal im Jahr\, im Frühjahr und im Herbst\, organisiert die Nachbarschaftshilfe ein sogenanntes Reparatur-Café.\nBevor kaputte Elektrogeräte\, Fahrräder\, Holzgegenstände\, Textilien\, Messer oder auch Spielzeug zu früh auf dem Müll landen\, kann hier repariert\, aufgemöbelt und aufpoliert werden.\nAußerdem kann GEO Lab e.V. mit einem 3 D Drucker kaputte Kunststoffteile nachkonstruieren und  austauschen. Am besten schon auf der Seite thingiverse.com oder printables.com das Stück heraussuchen und digital zur Verfügung stellen. Das erleichtert  die Konstruktion.\nJede / r ist willkommen\, kann mitmachen\, alte Dinge mitbringen\, mit Fachleuten reparieren und somit Müll vermeiden.\nBei Kaffee und Kuchen kann mit Gleichgesinnten die Wartezeit überbrückt werden.\nBei der Kleidertauschbörse – sollen einwandfreie\, gut erhaltene\, saisonale und saubere Kleidungsstücke gegen neue Lieblingsstücke getauscht werden. Jede und Jeder ist willkommen\, um einzutauschen.\nBitte beachten: Es dürfen 10 Kleidungsstücke mitgebracht werden. Schuhe\, Schals\, Taschen und Schmuck sind unbegrenzt. Nicht getauschte Kleidung kann wieder abgeholt werden oder geht an eine Hilfsorganisation.\nSeit Neuestem gibt es auch eine Handysprechstunde: Hier kann jeder mit seinem Gerät kommen\, genau seine Fragen stellen\, notfalls auch immer wieder die gleiche Frage. Kurzum: In der Handy-Sprechstunde helfen wir bei der Problemlösung\, damit vor allem Ältere ihr eigenes Handy oder Smartphone besser kennenlernen und zu vielerlei Zwecken nutzen können.\nBei Fragen wenden Sie sich bitte an:\nNachbarschaftshilfe Gerolzhofen\nMobil 0151 – 232 974 78\nE-Mail: nachbarschaftshilfe-geo@gmx.de
URL:https://www.nachbarschaftshilfe-gerolzhofen.de/event/reparatur-cafe-3-copy/
LOCATION:Pfarrer-Hersam-Haus\, Salzstraße 13\, Gerolzhofen\, 97447
END:VEVENT
BEGIN:VEVENT
DTSTART;TZID=Europe/Berlin:20261021T080000
DTEND;TZID=Europe/Berlin:20261021T170000
DTSTAMP:20260422T003049
CREATED:20251020T093438Z
LAST-MODIFIED:20251020T093803Z
UID:10000122-1792569600-1792602000@www.nachbarschaftshilfe-gerolzhofen.de
SUMMARY:Fahrradwerkstatt geöffnet
DESCRIPTION:Wenn es wärmer wird und bleibt\,  hat unsere Fahrradwerkstatt jeweils am ersten und dritten Mittwoch im Monat ihre Türen offen.\nZwischen 16.00 und 18.00 Uhr kümmern sich in der Steingrabenstraße 6\, 97447 Gerolzhofen unsere Experten um kaputte Speichen\, nicht mehr funktionierende Gangschaltungen und was sonst noch am Fahrrad repariert werden kann. \nOrt: Steingrabenstraße 6\, 97447 Gerolzhofen
URL:https://www.nachbarschaftshilfe-gerolzhofen.de/event/fahrradwerkstatt-geoeffnet/2026-10-21/
END:VEVENT
END:VCALENDAR