BEGIN:VCALENDAR
VERSION:2.0
PRODID:-//Nachbarschaftshilfe Gerolzhofen - ECPv6.15.17//NONSGML v1.0//EN
CALSCALE:GREGORIAN
METHOD:PUBLISH
X-ORIGINAL-URL:https://www.nachbarschaftshilfe-gerolzhofen.de
X-WR-CALDESC:Veranstaltungen für Nachbarschaftshilfe Gerolzhofen
REFRESH-INTERVAL;VALUE=DURATION:PT1H
X-Robots-Tag:noindex
X-PUBLISHED-TTL:PT1H
BEGIN:VTIMEZONE
TZID:Europe/Berlin
BEGIN:DAYLIGHT
TZOFFSETFROM:+0100
TZOFFSETTO:+0200
TZNAME:CEST
DTSTART:20240331T010000
END:DAYLIGHT
BEGIN:STANDARD
TZOFFSETFROM:+0200
TZOFFSETTO:+0100
TZNAME:CET
DTSTART:20241027T010000
END:STANDARD
BEGIN:DAYLIGHT
TZOFFSETFROM:+0100
TZOFFSETTO:+0200
TZNAME:CEST
DTSTART:20250330T010000
END:DAYLIGHT
BEGIN:STANDARD
TZOFFSETFROM:+0200
TZOFFSETTO:+0100
TZNAME:CET
DTSTART:20251026T010000
END:STANDARD
BEGIN:DAYLIGHT
TZOFFSETFROM:+0100
TZOFFSETTO:+0200
TZNAME:CEST
DTSTART:20260329T010000
END:DAYLIGHT
BEGIN:STANDARD
TZOFFSETFROM:+0200
TZOFFSETTO:+0100
TZNAME:CET
DTSTART:20261025T010000
END:STANDARD
END:VTIMEZONE
BEGIN:VEVENT
DTSTART;TZID=Europe/Berlin:20251204T180000
DTEND;TZID=Europe/Berlin:20251204T203000
DTSTAMP:20260421T104620
CREATED:20241009T122538Z
LAST-MODIFIED:20241009T122538Z
UID:10000102-1764871200-1764880200@www.nachbarschaftshilfe-gerolzhofen.de
SUMMARY:Dezember-Stammtisch
DESCRIPTION:Bei unserem monatlichen Stammtisch (Beginn jeweils um 18.00 Uhr) geht es um Erfahrungsaustausch\, neue Informationen und Entwicklungen der Nachbarschaftshilfe und natürlich auch um Kontaktpflege und gemütliches Beisammensein. Der Veranstaltungsort wird kurzfristig bekannt gegeben.
URL:https://www.nachbarschaftshilfe-gerolzhofen.de/event/dezember-stammtisch/
END:VEVENT
END:VCALENDAR